BEGIN:VCALENDAR
VERSION:2.0
PRODID:-//Sabre//Sabre VObject 4.5.8//EN
CALSCALE:GREGORIAN
BEGIN:VEVENT
UID:sabre-vobject-228eca2e-0a27-4681-96eb-1b7bd3f941d7
DTSTAMP:20260421T220954Z
SUMMARY:Senioren-Gymnastik
DESCRIPTION:https://keb-aichach-friedberg.de/veranstaltungen/senioren-gymna
 stik_id134811
DTSTART;TZID=Europe/Berlin:20221005T170000
DTEND;TZID=Europe/Berlin:20221005T180000
LOCATION:Pfarrheim\, Hauptstraße 11\, 86504 Merching
END:VEVENT
END:VCALENDAR
