BEGIN:VCALENDAR
VERSION:2.0
PRODID:-//Sabre//Sabre VObject 4.5.8//EN
CALSCALE:GREGORIAN
BEGIN:VEVENT
UID:sabre-vobject-cecfdec4-f5ba-40a3-857c-1518911dc7ef
DTSTAMP:20260424T084914Z
SUMMARY:Musikgarten 1\,5 - 3 Jahre
DESCRIPTION:https://keb-aichach-friedberg.de/veranstaltungen/musikgarten-1-
 5-3-jahre_id143231
DTSTART;TZID=Europe/Berlin:20220926T152500
DTEND;TZID=Europe/Berlin:20221114T161000
LOCATION:Begegnungszentrum Divano\, Pfarrstraße 1\, 86316 Friedberg
END:VEVENT
END:VCALENDAR
