BEGIN:VCALENDAR
VERSION:2.0
PRODID:-//Sabre//Sabre VObject 4.5.8//EN
CALSCALE:GREGORIAN
BEGIN:VEVENT
UID:sabre-vobject-3faef793-c64e-4110-9a27-d8288c38e48d
DTSTAMP:20260425T110143Z
SUMMARY:Alles öko\, Eva?
DESCRIPTION:https://keb-aichach-friedberg.de/veranstaltungen/alles-oeko-eva
 _id146372
DTSTART;TZID=Europe/Berlin:20221001T100000
LOCATION:Biohof Moll\, Haunswieser Straße 9\, 86444 Affing
END:VEVENT
END:VCALENDAR
