BEGIN:VCALENDAR
VERSION:2.0
PRODID:-//Sabre//Sabre VObject 4.5.8//EN
CALSCALE:GREGORIAN
BEGIN:VEVENT
UID:sabre-vobject-4e7779c3-de99-43da-bcf7-4344debddd02
DTSTAMP:20260425T221709Z
SUMMARY:In der Wunderwelt der Schmetterlinge
DESCRIPTION:https://keb-aichach-friedberg.de/veranstaltungen/in-der-wunderw
 elt-der-schmetterlinge_id176784
DTSTART;TZID=Europe/Berlin:20230617T130000
LOCATION:KEB Friedberg\, Pfarrstraße 1\, 86316 Friedberg
END:VEVENT
END:VCALENDAR
