BEGIN:VCALENDAR
VERSION:2.0
PRODID:-//Sabre//Sabre VObject 4.5.8//EN
CALSCALE:GREGORIAN
BEGIN:VEVENT
UID:sabre-vobject-88662d5c-a1c9-44d5-bae6-807804e4ad5a
DTSTAMP:20260425T234339Z
SUMMARY:Von Weihnachten und Rauhnächten
DESCRIPTION:https://keb-aichach-friedberg.de/veranstaltungen/von-weihnachte
 n-und-rauhnaechten_id180657
DTSTART;TZID=Europe/Berlin:20231213T143000
LOCATION:Martin-Luther-Haus\, Martin-Luther-Straße 3\, 86415 Mering
END:VEVENT
END:VCALENDAR
