BEGIN:VCALENDAR
VERSION:2.0
PRODID:-//Sabre//Sabre VObject 4.5.8//EN
CALSCALE:GREGORIAN
BEGIN:VEVENT
UID:sabre-vobject-191118f3-1643-467f-80c9-89713f9b51ec
DTSTAMP:20260423T091049Z
SUMMARY:Besuch im Botanischen Garten Augsburg
DESCRIPTION:https://keb-aichach-friedberg.de/veranstaltungen/besuch-im-bota
 nischen-garten-augsburg_id227939
DTSTART;TZID=Europe/Berlin:20240613T140000
LOCATION:Botanischer Garten Augsburg\, Dr.-Ziegenspeck-Weg 10\, 86161 Augsb
 urg
END:VEVENT
END:VCALENDAR
