BEGIN:VCALENDAR
VERSION:2.0
PRODID:-//Sabre//Sabre VObject 4.5.8//EN
CALSCALE:GREGORIAN
BEGIN:VEVENT
UID:sabre-vobject-7a4f1794-9cfe-4d1a-95d9-36fd2c56260e
DTSTAMP:20260422T165203Z
SUMMARY:Mutter-Tochter-Tag
DESCRIPTION:https://keb-aichach-friedberg.de/veranstaltungen/mutter-tochter
 -tag_id296438
DTSTART;TZID=Europe/Berlin:20261002T170000
DTEND;TZID=Europe/Berlin:20261003T170000
LOCATION:Tagungshotel Haus Sankt Ulrich\, Kappelberg 1\, 86150 Augsburg
END:VEVENT
END:VCALENDAR
