BEGIN:VCALENDAR
VERSION:2.0
PRODID:-//Sabre//Sabre VObject 4.5.8//EN
CALSCALE:GREGORIAN
BEGIN:VEVENT
UID:sabre-vobject-487b7257-5d47-4607-81e5-eadd1e597e33
DTSTAMP:20260422T165009Z
SUMMARY:Mutter-Tochter-Tag
DESCRIPTION:https://keb-aichach-friedberg.de/veranstaltungen/mutter-tochter
 -tag_id296440
DTSTART;TZID=Europe/Berlin:20261204T170000
DTEND;TZID=Europe/Berlin:20261205T170000
LOCATION:Tagungshotel Haus Sankt Ulrich\, Kappelberg 1\, 86150 Augsburg
END:VEVENT
END:VCALENDAR
