BEGIN:VCALENDAR
VERSION:2.0
PRODID:-//Sabre//Sabre VObject 4.5.8//EN
CALSCALE:GREGORIAN
BEGIN:VEVENT
UID:sabre-vobject-8ed86f48-e1de-4fa4-9954-b628599e10fe
DTSTAMP:20260424T115607Z
SUMMARY:Ehevorbereitungsseminar
DESCRIPTION:https://keb-aichach-friedberg.de/veranstaltungen/ehevorbereitun
 gsseminar_id296442
DTSTART;TZID=Europe/Berlin:20260620T090000
LOCATION:Online
END:VEVENT
END:VCALENDAR
