BEGIN:VCALENDAR
VERSION:2.0
PRODID:-//Sabre//Sabre VObject 4.5.8//EN
CALSCALE:GREGORIAN
BEGIN:VEVENT
UID:sabre-vobject-ba1788fe-4028-4a31-bc73-f7479f971008
DTSTAMP:20260424T085043Z
SUMMARY:Worte\, die uns leben lassen
DESCRIPTION:https://keb-aichach-friedberg.de/veranstaltungen/worte-die-uns-
 leben-lassen_id306280
DTSTART;TZID=Europe/Berlin:20261023T180000
DTEND;TZID=Europe/Berlin:20261025T130000
LOCATION:Schullandheim Wartaweil\, Wartaweil 45\, 82211 Herrsching am Ammer
 see
END:VEVENT
END:VCALENDAR
