BEGIN:VCALENDAR
VERSION:2.0
PRODID:-//Sabre//Sabre VObject 4.5.8//EN
CALSCALE:GREGORIAN
BEGIN:VEVENT
UID:sabre-vobject-98ec2bad-2e52-4109-83e9-2f9b0c9e2a35
DTSTAMP:20260420T055629Z
SUMMARY:"Ein Pflaster auf viele Wunden" (Etty Hillesum)
DESCRIPTION:https://keb-aichach-friedberg.de/veranstaltungen/ein-pflaster-a
 uf-viele-wunden-etty-hillesum_id306285
DTSTART;TZID=Europe/Berlin:20260425T093000
LOCATION:Erzabtei St. Ottilien\, Erzabtei 1\, 86941 Eresing
END:VEVENT
END:VCALENDAR
