BEGIN:VCALENDAR
VERSION:2.0
PRODID:-//Sabre//Sabre VObject 4.5.8//EN
CALSCALE:GREGORIAN
BEGIN:VEVENT
UID:sabre-vobject-1f6dbdcb-dd6e-465e-9f25-d0a3b97845ae
DTSTAMP:20260424T084929Z
SUMMARY:Geistliches Ulm
DESCRIPTION:https://keb-aichach-friedberg.de/veranstaltungen/geistliches-ul
 m_id306287
DTSTART;TZID=Europe/Berlin:20260612T100000
LOCATION:Ulm Hbf\, Bahnhofplatz 1\, 89073 Ulm
END:VEVENT
END:VCALENDAR
