BEGIN:VCALENDAR
VERSION:2.0
PRODID:-//Sabre//Sabre VObject 4.5.8//EN
CALSCALE:GREGORIAN
BEGIN:VEVENT
UID:sabre-vobject-e9c7e412-41ce-4dab-af9a-21ac557e8d82
DTSTAMP:20260424T085027Z
SUMMARY:„KESS – Stressless Summer“
DESCRIPTION:https://keb-aichach-friedberg.de/veranstaltungen/kess-stressles
 s-summer_id306288
DTSTART;TZID=Europe/Berlin:20260905T180000
DTEND;TZID=Europe/Berlin:20260911T100000
LOCATION:Haus Zauberberg\, Kolpingstraße 23\, 87459 Pfronten
END:VEVENT
END:VCALENDAR
