BEGIN:VCALENDAR
VERSION:2.0
PRODID:-//Sabre//Sabre VObject 4.5.8//EN
CALSCALE:GREGORIAN
BEGIN:VEVENT
UID:sabre-vobject-055a10e3-c7c0-445f-9c13-454bb1f537a3
DTSTAMP:20260424T084944Z
SUMMARY:„Klingt gut! Tut gut!“
DESCRIPTION:https://keb-aichach-friedberg.de/veranstaltungen/klingt-gut-tut
 -gut_id306292
DTSTART;TZID=Europe/Berlin:20260508T180000
DTEND;TZID=Europe/Berlin:20260510T130000
LOCATION:Allgäuhaus Wertach\, Kolpingstraße 1\, 87497 Wertach
END:VEVENT
END:VCALENDAR
