BEGIN:VCALENDAR
VERSION:2.0
PRODID:-//Sabre//Sabre VObject 4.5.8//EN
CALSCALE:GREGORIAN
BEGIN:VEVENT
UID:sabre-vobject-e31d79bc-ae42-4fb0-ab7a-3ac34578244e
DTSTAMP:20260425T140232Z
SUMMARY:Dekanatsrunde Aichach-Friedberg
DESCRIPTION:https://keb-aichach-friedberg.de/veranstaltungen/dekanatsrunde-
 aichach-friedberg_id311443
DTSTART;TZID=Europe/Berlin:20260430T140000
LOCATION:Pfarrzentrum Tandern\, Schloßplatz 2\, 86567 Hilgertshausen-Tande
 rn
END:VEVENT
END:VCALENDAR
