BEGIN:VCALENDAR
VERSION:2.0
PRODID:-//Sabre//Sabre VObject 4.5.8//EN
CALSCALE:GREGORIAN
BEGIN:VEVENT
UID:sabre-vobject-6c4a4131-fefe-427f-8134-c4d90b376b54
DTSTAMP:20260422T211512Z
SUMMARY:„Dieses Opfer unserer Versöhnung ...“
DESCRIPTION:https://keb-aichach-friedberg.de/veranstaltungen/dieses-opfer-u
 nserer-versoehnung_id317757
DTSTART;TZID=Europe/Berlin:20260619T180000
DTEND;TZID=Europe/Berlin:20260620T190000
LOCATION:Provinzhaus Dillinger Franziskanerinnen\, Kardinal-von-Waldburg-St
 raße 2\, 89407 Dillingen an der Donau
END:VEVENT
END:VCALENDAR
