BEGIN:VCALENDAR
VERSION:2.0
PRODID:-//Sabre//Sabre VObject 4.5.8//EN
CALSCALE:GREGORIAN
BEGIN:VEVENT
UID:sabre-vobject-89c8b6f9-da3d-452e-b2fe-753ea4a3978f
DTSTAMP:20260420T054623Z
SUMMARY:Mut im Chaos
DESCRIPTION:https://keb-aichach-friedberg.de/veranstaltungen/mut-im-chaos_i
 d318605
DTSTART;TZID=Europe/Berlin:20260424T140000
LOCATION:Haus Sankt Ulrich\, Kappelberg 1\, 86150 Augsburg
END:VEVENT
END:VCALENDAR
