BEGIN:VCALENDAR
VERSION:2.0
PRODID:-//Sabre//Sabre VObject 4.5.8//EN
CALSCALE:GREGORIAN
BEGIN:VEVENT
UID:sabre-vobject-b3187b4d-db6e-4b5c-9794-6b375f2ccebf
DTSTAMP:20260420T073506Z
SUMMARY:Das Maximilianmuseum
DESCRIPTION:https://keb-aichach-friedberg.de/veranstaltungen/das-maximilian
 museum_id318607
DTSTART;TZID=Europe/Berlin:20260429T101500
LOCATION:Maximilianmuseum\, Fuggerplatz 1\, 86150 Augsburg
END:VEVENT
END:VCALENDAR
