BEGIN:VCALENDAR
VERSION:2.0
PRODID:-//Sabre//Sabre VObject 4.5.8//EN
CALSCALE:GREGORIAN
BEGIN:VEVENT
UID:sabre-vobject-34eae547-2066-4a02-95b5-7cba28421883
DTSTAMP:20260424T085027Z
SUMMARY:Donau so blau
DESCRIPTION:https://keb-aichach-friedberg.de/veranstaltungen/donau-so-blau_
 id318609
DTSTART;TZID=Europe/Berlin:20260506T193000
LOCATION:Haus Sankt Ulrich\, Kappelberg 1\, 86150 Augsburg
END:VEVENT
END:VCALENDAR
