BEGIN:VCALENDAR
VERSION:2.0
PRODID:-//Sabre//Sabre VObject 4.5.8//EN
CALSCALE:GREGORIAN
BEGIN:VEVENT
UID:sabre-vobject-5ebe7c2e-c7df-4d64-973f-c1641c301a0f
DTSTAMP:20260424T085105Z
SUMMARY:"Augsburg mit dem Herzen\, bar jeder Vernunft“
DESCRIPTION:https://keb-aichach-friedberg.de/veranstaltungen/augsburg-mit-d
 em-herzen-bar-jeder-vernunft_id318610
DTSTART;TZID=Europe/Berlin:20260507T180000
LOCATION:Rotes Tor\, Am Roten Tor 1\, 86150 Augsburg
END:VEVENT
END:VCALENDAR
