BEGIN:VCALENDAR
VERSION:2.0
PRODID:-//Sabre//Sabre VObject 4.5.8//EN
CALSCALE:GREGORIAN
BEGIN:VEVENT
UID:sabre-vobject-32ab9b99-b209-44e4-a2e9-c7239cb2b745
DTSTAMP:20260424T085105Z
SUMMARY:Schaezlerpalais - die Barockgalerie
DESCRIPTION:https://keb-aichach-friedberg.de/veranstaltungen/schaezlerpalai
 s-die-barockgalerie_id318611
DTSTART;TZID=Europe/Berlin:20260520T101500
LOCATION:Schaezlerpalais\, Maximilianstraße 46\, 86150 Augsburg
END:VEVENT
END:VCALENDAR
