BEGIN:VCALENDAR
VERSION:2.0
PRODID:-//Sabre//Sabre VObject 4.5.8//EN
CALSCALE:GREGORIAN
BEGIN:VEVENT
UID:sabre-vobject-562c0157-2b97-4106-b541-7588cc56529d
DTSTAMP:20260424T085223Z
SUMMARY:Celebrating Fashion - Talbot Runhof in Paris
DESCRIPTION:https://keb-aichach-friedberg.de/veranstaltungen/celebrating-fa
 shion-talbot-runhof-in-paris_id318613
DTSTART;TZID=Europe/Berlin:20260609T101500
LOCATION:tim\, Provinostraße 46\, 86153 Augsburg
END:VEVENT
END:VCALENDAR
