BEGIN:VCALENDAR
VERSION:2.0
PRODID:-//Sabre//Sabre VObject 4.5.8//EN
CALSCALE:GREGORIAN
BEGIN:VEVENT
UID:sabre-vobject-7963a8a5-71de-4603-bbb1-b223147f3634
DTSTAMP:20260422T130949Z
SUMMARY:Heimliche Heldinnen und Helden
DESCRIPTION:https://keb-aichach-friedberg.de/veranstaltungen/heimliche-held
 innen-und-helden_id318615
DTSTART;TZID=Europe/Berlin:20260610T193000
LOCATION:Haus Sankt Ulrich\, Kappelberg 1\, 86150 Augsburg
END:VEVENT
END:VCALENDAR
