BEGIN:VCALENDAR
VERSION:2.0
PRODID:-//Sabre//Sabre VObject 4.5.8//EN
CALSCALE:GREGORIAN
BEGIN:VEVENT
UID:sabre-vobject-5ec778d5-d4da-4d52-bc16-b1b0fc95cecd
DTSTAMP:20260424T085150Z
SUMMARY:Symbiosis - Kunst zwischen Mensch und Natur
DESCRIPTION:https://keb-aichach-friedberg.de/veranstaltungen/symbiosis-kuns
 t-zwischen-mensch-und-natur_id318623
DTSTART;TZID=Europe/Berlin:20260618T101500
LOCATION:H1 Zentrum für Gegenwartskunst\, Beim Glaspalast 1\, 86153 Augsbu
 rg
END:VEVENT
END:VCALENDAR
