BEGIN:VCALENDAR
VERSION:2.0
PRODID:-//Sabre//Sabre VObject 4.5.8//EN
CALSCALE:GREGORIAN
BEGIN:VEVENT
UID:sabre-vobject-fb05c1b6-a76f-417a-9ff2-aa37306ce04f
DTSTAMP:20260424T085150Z
SUMMARY:Alpen und Isar
DESCRIPTION:https://keb-aichach-friedberg.de/veranstaltungen/alpen-und-isar
 _id318626
DTSTART;TZID=Europe/Berlin:20260620T080000
LOCATION:KEB im Bistum Augsburg\, Kornhausgasse 2\, 86152 Augsburg
END:VEVENT
END:VCALENDAR
