BEGIN:VCALENDAR
VERSION:2.0
PRODID:-//Sabre//Sabre VObject 4.5.8//EN
CALSCALE:GREGORIAN
BEGIN:VEVENT
UID:sabre-vobject-a367d2d1-dbd0-427c-817b-08b284727d4c
DTSTAMP:20260424T085150Z
SUMMARY:Sich glücklich laufen (RB Prolog 49)
DESCRIPTION:https://keb-aichach-friedberg.de/veranstaltungen/sich-gluecklic
 h-laufen-rb-prolog-49_id318627
DTSTART;TZID=Europe/Berlin:20260707T193000
LOCATION:Benediktinerabtei St. Stephan\, Stephansplatz 6\, 86152 Augsburg
END:VEVENT
END:VCALENDAR
