BEGIN:VCALENDAR
VERSION:2.0
PRODID:-//Sabre//Sabre VObject 4.5.8//EN
CALSCALE:GREGORIAN
BEGIN:VEVENT
UID:sabre-vobject-3c1cfe71-e61d-416a-b67c-6f18ccf987e5
DTSTAMP:20260424T085105Z
SUMMARY:Vom Reisen und vom Nach-Hause-Kommen
DESCRIPTION:https://keb-aichach-friedberg.de/veranstaltungen/vom-reisen-und
 -vom-nach-hause-kommen_id318629
DTSTART;TZID=Europe/Berlin:20260711T100000
LOCATION:Exerzitienhaus St. Paulus\, Krippackerstraße 6\, 86391 Stadtberge
 n
END:VEVENT
END:VCALENDAR
