BEGIN:VCALENDAR
VERSION:2.0
PRODID:-//Sabre//Sabre VObject 4.5.8//EN
CALSCALE:GREGORIAN
BEGIN:VEVENT
UID:sabre-vobject-9ec97855-77b7-421a-ab86-ca0ccc078a56
DTSTAMP:20260424T115724Z
SUMMARY:Jubiläumstagung
DESCRIPTION:https://keb-aichach-friedberg.de/veranstaltungen/jubilaeumstagu
 ng_id319192
DTSTART;TZID=Europe/Berlin:20260424T140000
DTEND;TZID=Europe/Berlin:20260426T123000
LOCATION:Schwabenakademie Irsee und Crescentiakloster Kaufbeuren\, Klosterr
 ing 4\, 87660 Irsee
END:VEVENT
END:VCALENDAR
