BEGIN:VCALENDAR
VERSION:2.0
PRODID:-//Sabre//Sabre VObject 4.5.8//EN
CALSCALE:GREGORIAN
BEGIN:VEVENT
UID:sabre-vobject-f9f019aa-616a-492a-b680-34180d78de4b
DTSTAMP:20260424T085028Z
SUMMARY:Formt KI unser menschliches Selbstverständnis?
DESCRIPTION:https://keb-aichach-friedberg.de/veranstaltungen/formt-ki-unser
 -menschliches-selbstverstaendnis_id319193
DTSTART;TZID=Europe/Berlin:20260428T183000
LOCATION:Haus Sankt Ulrich\, Kappelberg 1\, 86150 Augsburg
END:VEVENT
END:VCALENDAR
