BEGIN:VCALENDAR
VERSION:2.0
PRODID:-//Sabre//Sabre VObject 4.5.8//EN
CALSCALE:GREGORIAN
BEGIN:VEVENT
UID:sabre-vobject-9e347406-7ab1-47ac-936d-1a73c119480c
DTSTAMP:20260424T085222Z
SUMMARY:Was die Welt zusammenhält
DESCRIPTION:https://keb-aichach-friedberg.de/veranstaltungen/was-die-welt-z
 usammenhaelt_id319195
DTSTART;TZID=Europe/Berlin:20260508T183000
LOCATION:Haus Sankt Ulrich\, Kappelberg 1\, 86150 Augsburg
END:VEVENT
END:VCALENDAR
