BEGIN:VCALENDAR
VERSION:2.0
PRODID:-//Sabre//Sabre VObject 4.5.8//EN
CALSCALE:GREGORIAN
BEGIN:VEVENT
UID:sabre-vobject-519154f1-0f98-4d21-9815-dd01aaab8069
DTSTAMP:20260424T085058Z
SUMMARY:Die wunderbare göttliche Natur
DESCRIPTION:https://keb-aichach-friedberg.de/veranstaltungen/die-wunderbare
 -goettliche-natur_id319197
DTSTART;TZID=Europe/Berlin:20260520T183000
LOCATION:Haus Sankt Ulrich\, Kappelberg 1\, 86150 Augsburg
END:VEVENT
END:VCALENDAR
