BEGIN:VCALENDAR
VERSION:2.0
PRODID:-//Sabre//Sabre VObject 4.5.8//EN
CALSCALE:GREGORIAN
BEGIN:VEVENT
UID:sabre-vobject-22065869-505c-46c6-b363-cb8edb0a3bf2
DTSTAMP:20260424T115643Z
SUMMARY:Die Messfeier - Ein Opfer?
DESCRIPTION:https://keb-aichach-friedberg.de/veranstaltungen/die-messfeier-
 ein-opfer_id319199
DTSTART;TZID=Europe/Berlin:20260611T183000
LOCATION:Kolpingsaal\, Frauentorstraße 29\, 86152 Augsburg
END:VEVENT
END:VCALENDAR
