BEGIN:VCALENDAR
VERSION:2.0
PRODID:-//Sabre//Sabre VObject 4.5.8//EN
CALSCALE:GREGORIAN
BEGIN:VEVENT
UID:sabre-vobject-cc342182-f172-4a93-9719-96ff82ad05b1
DTSTAMP:20260424T085044Z
SUMMARY:Gartenkunst als Spiegel des Lebens
DESCRIPTION:https://keb-aichach-friedberg.de/veranstaltungen/gartenkunst-al
 s-spiegel-des-lebens_id319200
DTSTART;TZID=Europe/Berlin:20260716T183000
LOCATION:Haus Sankt Ulrich\, Kappelberg 1\, 86150 Augsburg
END:VEVENT
END:VCALENDAR
