BEGIN:VCALENDAR
VERSION:2.0
PRODID:-//Sabre//Sabre VObject 4.5.8//EN
CALSCALE:GREGORIAN
BEGIN:VEVENT
UID:sabre-vobject-a02e8f20-df12-4a50-83d2-15d557ffd543
DTSTAMP:20260424T085043Z
SUMMARY:Kollegiale Beratung
DESCRIPTION:https://keb-aichach-friedberg.de/veranstaltungen/kollegiale-ber
 atung_id321728
DTSTART;TZID=Europe/Berlin:20260420T193000
LOCATION:Online
END:VEVENT
END:VCALENDAR
