BEGIN:VCALENDAR
VERSION:2.0
PRODID:-//Sabre//Sabre VObject 4.5.8//EN
CALSCALE:GREGORIAN
BEGIN:VEVENT
UID:sabre-vobject-27064414-4201-4e6b-afb6-67f1afd7861b
DTSTAMP:20260420T073430Z
SUMMARY:Offenes Handarbeiten "Stricktreff"
DESCRIPTION:https://keb-aichach-friedberg.de/veranstaltungen/offenes-handar
 beiten-stricktreff_id322205
DTSTART;TZID=Europe/Berlin:20260421T140000
DTEND;TZID=Europe/Berlin:20260421T160000
LOCATION:Caritas Sozialstation Mering\, Lechstraße 7\, 86415 Mering
END:VEVENT
END:VCALENDAR
