BEGIN:VCALENDAR
VERSION:2.0
PRODID:-//Sabre//Sabre VObject 4.5.8//EN
CALSCALE:GREGORIAN
BEGIN:VEVENT
UID:sabre-vobject-53648598-d253-4d63-93ea-c3dc57d6cb74
DTSTAMP:20260424T163243Z
SUMMARY:Offenes Handarbeiten "Stricktreff"
DESCRIPTION:https://keb-aichach-friedberg.de/veranstaltungen/offenes-handar
 beiten-stricktreff_id322206
DTSTART;TZID=Europe/Berlin:20260505T140000
DTEND;TZID=Europe/Berlin:20260505T160000
LOCATION:Caritas Sozialstation Mering\, Lechstraße 7\, 86415 Mering
END:VEVENT
END:VCALENDAR
