BEGIN:VCALENDAR
VERSION:2.0
PRODID:-//Sabre//Sabre VObject 4.5.8//EN
CALSCALE:GREGORIAN
BEGIN:VEVENT
UID:sabre-vobject-f1f77b94-ec11-4ed6-b483-09d794295896
DTSTAMP:20260424T115724Z
SUMMARY:Offenes Handarbeiten "Stricktreff"
DESCRIPTION:https://keb-aichach-friedberg.de/veranstaltungen/offenes-handar
 beiten-stricktreff_id322208
DTSTART;TZID=Europe/Berlin:20260602T140000
DTEND;TZID=Europe/Berlin:20260602T160000
LOCATION:Caritas Sozialstation Mering\, Lechstraße 7\, 86415 Mering
END:VEVENT
END:VCALENDAR
