BEGIN:VCALENDAR
VERSION:2.0
PRODID:-//Sabre//Sabre VObject 4.5.8//EN
CALSCALE:GREGORIAN
BEGIN:VEVENT
UID:sabre-vobject-22216411-6486-40a2-a876-adc08c4bf99c
DTSTAMP:20260422T215918Z
SUMMARY:Offenes Handarbeiten "Stricktreff"
DESCRIPTION:https://keb-aichach-friedberg.de/veranstaltungen/offenes-handar
 beiten-stricktreff_id322216
DTSTART;TZID=Europe/Berlin:20260922T140000
DTEND;TZID=Europe/Berlin:20260922T160000
LOCATION:Caritas Sozialstation Mering\, Lechstraße 7\, 86415 Mering
END:VEVENT
END:VCALENDAR
