BEGIN:VCALENDAR
VERSION:2.0
PRODID:-//Sabre//Sabre VObject 4.5.8//EN
CALSCALE:GREGORIAN
BEGIN:VEVENT
UID:sabre-vobject-8aa26c44-054b-4a0e-b567-89d331a1fe10
DTSTAMP:20260422T220025Z
SUMMARY:Offenes Handarbeiten "Stricktreff"
DESCRIPTION:https://keb-aichach-friedberg.de/veranstaltungen/offenes-handar
 beiten-stricktreff_id322218
DTSTART;TZID=Europe/Berlin:20261020T140000
DTEND;TZID=Europe/Berlin:20261020T160000
LOCATION:Caritas Sozialstation Mering\, Lechstraße 7\, 86415 Mering
END:VEVENT
END:VCALENDAR
