BEGIN:VCALENDAR
VERSION:2.0
PRODID:-//Sabre//Sabre VObject 4.5.8//EN
CALSCALE:GREGORIAN
BEGIN:VEVENT
UID:sabre-vobject-1b3bc118-7a14-4d0b-8a4c-382fb65b5e04
DTSTAMP:20260421T132400Z
SUMMARY:Senioren Yoga - "Gymnastik auf dem Stuhl"
DESCRIPTION:https://keb-aichach-friedberg.de/veranstaltungen/senioren-yoga-
 gymnastik-auf-dem-stuhl_id322235
DTSTART;TZID=Europe/Berlin:20260421T100000
DTEND;TZID=Europe/Berlin:20260421T111500
LOCATION:Caritas Sozialstation Mering\, Lechstraße 7\, 86415 Mering
END:VEVENT
END:VCALENDAR
