BEGIN:VCALENDAR
VERSION:2.0
PRODID:-//Sabre//Sabre VObject 4.5.8//EN
CALSCALE:GREGORIAN
BEGIN:VEVENT
UID:sabre-vobject-6060cf41-c563-451b-acc0-373054b65de8
DTSTAMP:20260421T121211Z
SUMMARY:Senioren Yoga - "Gymnastik auf dem Stuhl"
DESCRIPTION:https://keb-aichach-friedberg.de/veranstaltungen/senioren-yoga-
 gymnastik-auf-dem-stuhl_id322236
DTSTART;TZID=Europe/Berlin:20260428T100000
DTEND;TZID=Europe/Berlin:20260428T111500
LOCATION:Caritas Sozialstation Mering\, Lechstraße 7\, 86415 Mering
END:VEVENT
END:VCALENDAR
