BEGIN:VCALENDAR
VERSION:2.0
PRODID:-//Sabre//Sabre VObject 4.5.8//EN
CALSCALE:GREGORIAN
BEGIN:VEVENT
UID:sabre-vobject-bd4dee19-ec9a-4d34-a7f1-416316dd3fe7
DTSTAMP:20260422T215918Z
SUMMARY:Senioren Yoga - "Gymnastik auf dem Stuhl"
DESCRIPTION:https://keb-aichach-friedberg.de/veranstaltungen/senioren-yoga-
 gymnastik-auf-dem-stuhl_id322250
DTSTART;TZID=Europe/Berlin:20260922T100000
DTEND;TZID=Europe/Berlin:20260922T111500
LOCATION:Caritas Sozialstation Mering\, Lechstraße 7\, 86415 Mering
END:VEVENT
END:VCALENDAR
