BEGIN:VCALENDAR
VERSION:2.0
PRODID:-//Sabre//Sabre VObject 4.5.8//EN
CALSCALE:GREGORIAN
BEGIN:VEVENT
UID:sabre-vobject-c15a63af-080a-4e00-a680-dc5f3a49fc61
DTSTAMP:20260422T215735Z
SUMMARY:Senioren Yoga - "Gymnastik auf dem Stuhl"
DESCRIPTION:https://keb-aichach-friedberg.de/veranstaltungen/senioren-yoga-
 gymnastik-auf-dem-stuhl_id322251
DTSTART;TZID=Europe/Berlin:20260929T100000
DTEND;TZID=Europe/Berlin:20260929T111500
LOCATION:Caritas Sozialstation Mering\, Lechstraße 7\, 86415 Mering
END:VEVENT
END:VCALENDAR
