BEGIN:VCALENDAR
VERSION:2.0
PRODID:-//Sabre//Sabre VObject 4.5.8//EN
CALSCALE:GREGORIAN
BEGIN:VEVENT
UID:sabre-vobject-2912f7b4-bb7f-4add-b442-061f25fa13b5
DTSTAMP:20260422T215751Z
SUMMARY:Senioren Yoga - "Gymnastik auf dem Stuhl"
DESCRIPTION:https://keb-aichach-friedberg.de/veranstaltungen/senioren-yoga-
 gymnastik-auf-dem-stuhl_id322254
DTSTART;TZID=Europe/Berlin:20261020T100000
DTEND;TZID=Europe/Berlin:20261020T111500
LOCATION:Caritas Sozialstation Mering\, Lechstraße 7\, 86415 Mering
END:VEVENT
END:VCALENDAR
