BEGIN:VCALENDAR
VERSION:2.0
PRODID:-//Sabre//Sabre VObject 4.5.8//EN
CALSCALE:GREGORIAN
BEGIN:VEVENT
UID:sabre-vobject-73da6c93-f50b-4797-8eb5-3b650bb18a1a
DTSTAMP:20260424T084944Z
SUMMARY:Herzlich willkommen im falschen Film - PRÄSENZ
DESCRIPTION:https://keb-aichach-friedberg.de/veranstaltungen/herzlich-willk
 ommen-im-falschen-film-praesenz_id323390
DTSTART;TZID=Europe/Berlin:20260430T100000
LOCATION:Haus Sankt Ulrich\, Kappelberg 1\, 86150 Augsburg
END:VEVENT
END:VCALENDAR
