BEGIN:VCALENDAR
VERSION:2.0
PRODID:-//Sabre//Sabre VObject 4.5.8//EN
CALSCALE:GREGORIAN
BEGIN:VEVENT
UID:sabre-vobject-b047343d-713c-44c0-a403-bf1027e3e145
DTSTAMP:20260424T084930Z
SUMMARY:Achtsam und respektvoll miteinander umgehen - Schulungen zum Thema 
 Prävention in der Seniorenarbeit - PRÄSENZ
DESCRIPTION:https://keb-aichach-friedberg.de/veranstaltungen/achtsam-und-re
 spektvoll-miteinander-umgehen-schulungen-zum-thema-praevention-in-der-seni
 orenarbeit-praesenz_id323391
DTSTART;TZID=Europe/Berlin:20260424T093000
LOCATION:Haus Sankt Ulrich\, Kappelberg 1\, 86150 Augsburg
END:VEVENT
END:VCALENDAR
