BEGIN:VCALENDAR
VERSION:2.0
PRODID:-//Sabre//Sabre VObject 4.5.8//EN
CALSCALE:GREGORIAN
BEGIN:VEVENT
UID:sabre-vobject-548abc74-19f4-4a7b-be98-1c102cae0c62
DTSTAMP:20260424T084929Z
SUMMARY:Achtsam und respektvoll miteinander umgehen - Schulungen zum Thema 
 Prävention in der Seniorenarbeit - PRÄSENZ
DESCRIPTION:https://keb-aichach-friedberg.de/veranstaltungen/achtsam-und-re
 spektvoll-miteinander-umgehen-schulungen-zum-thema-praevention-in-der-seni
 orenarbeit-praesenz_id323392
DTSTART;TZID=Europe/Berlin:20260723T150000
LOCATION:Haus Sankt Ulrich\, Kappelberg 1\, 86150 Augsburg
END:VEVENT
END:VCALENDAR
