BEGIN:VCALENDAR
VERSION:2.0
PRODID:-//Sabre//Sabre VObject 4.5.8//EN
CALSCALE:GREGORIAN
BEGIN:VEVENT
UID:sabre-vobject-6e4c8451-73f7-495c-896e-302a2c366303
DTSTAMP:20260424T115643Z
SUMMARY:Licht und Schatten
DESCRIPTION:https://keb-aichach-friedberg.de/veranstaltungen/licht-und-scha
 tten_id323960
DTSTART;TZID=Europe/Berlin:20260518T000000
LOCATION:KEB Friedberg\, Pfarrstraße 1\, 86316 Friedberg
END:VEVENT
END:VCALENDAR
