BEGIN:VCALENDAR
VERSION:2.0
PRODID:-//Sabre//Sabre VObject 4.5.8//EN
CALSCALE:GREGORIAN
BEGIN:VEVENT
UID:sabre-vobject-f2cb6325-6ad3-4618-8dc7-6e2acecfa378
DTSTAMP:20260422T201317Z
SUMMARY:Licht und Schatten
DESCRIPTION:https://keb-aichach-friedberg.de/veranstaltungen/licht-und-scha
 tten_id323964
DTSTART;TZID=Europe/Berlin:20260713T000000
LOCATION:KEB Friedberg\, Pfarrstraße 1\, 86316 Friedberg
END:VEVENT
END:VCALENDAR
