BEGIN:VCALENDAR
VERSION:2.0
PRODID:-//Sabre//Sabre VObject 4.5.8//EN
CALSCALE:GREGORIAN
BEGIN:VEVENT
UID:sabre-vobject-eb8495a9-8c57-4187-8381-ed3fba84f557
DTSTAMP:20260422T201538Z
SUMMARY:Licht und Schatten
DESCRIPTION:https://keb-aichach-friedberg.de/veranstaltungen/licht-und-scha
 tten_id323966
DTSTART;TZID=Europe/Berlin:20260810T000000
LOCATION:KEB Friedberg\, Pfarrstraße 1\, 86316 Friedberg
END:VEVENT
END:VCALENDAR
